BEGIN:VCALENDAR
VERSION:2.0
PRODID:-//ChamberMaster//Event Calendar 2.0//EN
METHOD:PUBLISH
X-PUBLISHED-TTL:P3D
REFRESH-INTERVAL:P3D
CALSCALE:GREGORIAN
BEGIN:VEVENT
DTSTART:20250719T160000Z
DTEND:20250719T170000Z
X-MICROSOFT-CDO-ALLDAYEVENT:FALSE
SUMMARY:Nekter Juice Bar Ribbon Cutting
DESCRIPTION:Join us for the Re-Grand Opening of Nekter Juice Bar in San Marcos on July 26\, 2025! Celebrate fresh\, healthy living with special offers\, community connections\, and a ribbon cutting hosted by the San Marcos Chamber of Commerce.\n\n\n\n Special offers available during the event weekend!
X-ALT-DESC;FMTTYPE=text/html:<p data-end="884" data-start="848">&#127872\; Join us for the Re-Grand Opening of Nekter Juice Bar in San Marcos on July 26\, 2025! Celebrate fresh\, healthy living with special offers\, community connections\, and a ribbon cutting hosted by the San Marcos Chamber of Commerce.<br />\n<br />\n&#8203\;<strong data-end="882" data-start="862">Special offers available during the event weekend!</strong></p>\n
LOCATION:133 S Los Posas Rd.\, Suite 142\, San Marcos\, CA 92078 Parking: Available in front or behind the store
UID:e.1173.14183
SEQUENCE:3
DTSTAMP:20260420T084130Z
URL:http://business.sanmarcoschamber.com/events/details/nekter-juice-bar-ribbon-cutting-14183
END:VEVENT

END:VCALENDAR
